BEGIN:VCALENDAR
VERSION:2.0
PRODID:-//Jazz Academy - ECPv6.15.18//NONSGML v1.0//EN
CALSCALE:GREGORIAN
METHOD:PUBLISH
X-WR-CALNAME:Jazz Academy
X-ORIGINAL-URL:https://www.jazzacademy.org
X-WR-CALDESC:Events for Jazz Academy
REFRESH-INTERVAL;VALUE=DURATION:PT1H
X-Robots-Tag:noindex
X-PUBLISHED-TTL:PT1H
BEGIN:VTIMEZONE
TZID:Pacific/Honolulu
BEGIN:STANDARD
TZOFFSETFROM:-1000
TZOFFSETTO:-1000
TZNAME:HST
DTSTART:20240101T000000
END:STANDARD
END:VTIMEZONE
BEGIN:VEVENT
DTSTART;TZID=Pacific/Honolulu:20251207T170000
DTEND;TZID=Pacific/Honolulu:20251207T190000
DTSTAMP:20260425T073524
CREATED:20250618T231050Z
LAST-MODIFIED:20251020T181013Z
UID:5600-1765126800-1765134000@www.jazzacademy.org
SUMMARY:2025 Jazz Academy Orchestra Winter Concert
DESCRIPTION:🎼 Jazz Academy Orchestra Winter Concert\nLeisure World Clubhouse II \n33oo North Leisure World Blvd. \nSilver Spring\, MD  20906 \nCall time 4:15  Start time: 5pm.
URL:https://www.jazzacademy.org/event/2025-jazz-academy-orchestra-rehearsals-7/
LOCATION:Leisure World Clubhouse II\, 3300 N. Leisure World Blvd\, Silver Spring\,\, MD\, 20906\, United States
END:VEVENT
END:VCALENDAR