BEGIN:VCALENDAR
VERSION:2.0
PRODID:-//Jazz Academy - ECPv6.15.18//NONSGML v1.0//EN
CALSCALE:GREGORIAN
METHOD:PUBLISH
X-ORIGINAL-URL:https://www.jazzacademy.org
X-WR-CALDESC:Events for Jazz Academy
REFRESH-INTERVAL;VALUE=DURATION:PT1H
X-Robots-Tag:noindex
X-PUBLISHED-TTL:PT1H
BEGIN:VTIMEZONE
TZID:Pacific/Honolulu
BEGIN:STANDARD
TZOFFSETFROM:-1000
TZOFFSETTO:-1000
TZNAME:HST
DTSTART:20250101T000000
END:STANDARD
END:VTIMEZONE
BEGIN:VEVENT
DTSTART;TZID=Pacific/Honolulu:20260129T190000
DTEND;TZID=Pacific/Honolulu:20260129T210000
DTSTAMP:20260425T042016
CREATED:20251204T173439Z
LAST-MODIFIED:20251204T213857Z
UID:6168-1769713200-1769720400@www.jazzacademy.org
SUMMARY:2026 JAM Rehearsal
DESCRIPTION:
URL:https://www.jazzacademy.org/event/jam-rehearsal-3/
END:VEVENT
BEGIN:VEVENT
DTSTART;TZID=Pacific/Honolulu:20260129T193000
DTEND;TZID=Pacific/Honolulu:20260129T203000
DTSTAMP:20260425T042016
CREATED:20250618T234146Z
LAST-MODIFIED:20250618T234146Z
UID:5631-1769715000-1769718600@www.jazzacademy.org
SUMMARY:🎷 JAC Vanguard Unit Rehearsals
DESCRIPTION:Thursdays | 7:30 PM – 8:15 PMNorth Chevy Chase Christian Church8814 Kensington Parkway\, Chevy Chase\, MD 20815 \nThe Vanguard Unit is JAM’s top-tier combo for advanced students preparing for collegiate jazz programs or professional music careers. Focused on musical discipline\, deep improvisation\, and complex arrangements\, this group challenges students to reach their highest artistic potential. \nRehearsal Dates:2025 – October 2\, 16\, 30 | November 13 | December 112026 – January 15\, 29 | February 12 | March 5\, 19 | April 16\, 30
URL:https://www.jazzacademy.org/event/%f0%9f%8e%b7-jac-vanguard-unit-rehearsals-6/
END:VEVENT
END:VCALENDAR