BEGIN:VCALENDAR
VERSION:2.0
PRODID:-//Jazz Academy - ECPv6.15.18//NONSGML v1.0//EN
CALSCALE:GREGORIAN
METHOD:PUBLISH
X-WR-CALNAME:Jazz Academy
X-ORIGINAL-URL:https://www.jazzacademy.org
X-WR-CALDESC:Events for Jazz Academy
REFRESH-INTERVAL;VALUE=DURATION:PT1H
X-Robots-Tag:noindex
X-PUBLISHED-TTL:PT1H
BEGIN:VTIMEZONE
TZID:Pacific/Honolulu
BEGIN:STANDARD
TZOFFSETFROM:-1000
TZOFFSETTO:-1000
TZNAME:HST
DTSTART:20250101T000000
END:STANDARD
END:VTIMEZONE
BEGIN:VEVENT
DTSTART;TZID=Pacific/Honolulu:20260416T193000
DTEND;TZID=Pacific/Honolulu:20260416T203000
DTSTAMP:20260425T003910
CREATED:20250618T234405Z
LAST-MODIFIED:20260409T154147Z
UID:5639-1776367800-1776371400@www.jazzacademy.org
SUMMARY:🎷 JAC Vanguard Rehearsal
DESCRIPTION:Thursdays | 7:30 PM – 8:15 PMNorth Chevy Chase Christian Church8814 Kensington Parkway\, Chevy Chase\, MD 20815 \nThe Vanguard Unit is JAM’s top-tier combo for advanced students preparing for collegiate jazz programs or professional music careers. Focused on musical discipline\, deep improvisation\, and complex arrangements\, this group challenges students to reach their highest artistic potential. \nRehearsal Dates:2025 – October 2\, 16\, 30 | November 13 | December 112026 – January 15\, 29 | February 12 | March 5\, 19 | April 16\, 30
URL:https://www.jazzacademy.org/event/%f0%9f%8e%b7-jac-vanguard-unit-rehearsals-10/
END:VEVENT
END:VCALENDAR