BEGIN:VCALENDAR
VERSION:2.0
PRODID:-//Jazz Academy - ECPv6.15.18//NONSGML v1.0//EN
CALSCALE:GREGORIAN
METHOD:PUBLISH
X-WR-CALNAME:Jazz Academy
X-ORIGINAL-URL:https://www.jazzacademy.org
X-WR-CALDESC:Events for Jazz Academy
REFRESH-INTERVAL;VALUE=DURATION:PT1H
X-Robots-Tag:noindex
X-PUBLISHED-TTL:PT1H
BEGIN:VTIMEZONE
TZID:Pacific/Honolulu
BEGIN:STANDARD
TZOFFSETFROM:-1000
TZOFFSETTO:-1000
TZNAME:HST
DTSTART:20240101T000000
END:STANDARD
END:VTIMEZONE
BEGIN:VEVENT
DTSTART;TZID=Pacific/Honolulu:20260503T190000
DTEND;TZID=Pacific/Honolulu:20260503T210000
DTSTAMP:20260425T063821
CREATED:20260225T171930Z
LAST-MODIFIED:20260225T175726Z
UID:6296-1777834800-1777842000@www.jazzacademy.org
SUMMARY:2026 Jazz Academy Orchestra Rehearsals
DESCRIPTION:🎼 Jazz Academy Orchestra Rehearsals\nIn-Person Rehearsals Thursday\, Bi-Weekly | 7:00 PM – 8:45 PM \nHarlow Hall\, North Chevy Chase Christian Church8814 Kensington Parkway\, Chevy Chase\, MD 20815 \nRehearsals for the Jazz Academy Orchestra will take place in person on the following dates: \nSeptember: 25October: 9\, 23November: 6\, 13\, 20December: 4\, 11January: 8\, 22February: 5March: 19\, 26April: 9\, 23\, 30 \nMay: 3 \nThese rehearsals provide a focused\, professional environment where students will work closely with instructors to prepare for upcoming performances. All sessions will be held in Harlow Hall at North Chevy Chase Christian Church\, offering a comfortable and acoustically supportive space for musical development.
URL:https://www.jazzacademy.org/event/2026-jazz-academy-orchestra-rehearsals/
END:VEVENT
BEGIN:VEVENT
DTSTART;TZID=Pacific/Honolulu:20260503T150000
DTEND;TZID=Pacific/Honolulu:20260503T170000
DTSTAMP:20260425T063821
CREATED:20260331T232535Z
LAST-MODIFIED:20260414T220721Z
UID:6445-1777820400-1777827600@www.jazzacademy.org
SUMMARY:JAO Spring Concert
DESCRIPTION:The Spring Concert will be held at Westminster Church in Washington\, DC on May 3\, 2026. \nCall time is 2:15pm and Performance time is 3:00pm
URL:https://www.jazzacademy.org/event/spring-concert/
LOCATION:Westminster Church\, United States
ATTACH;FMTTYPE=image/jpeg:https://www.jazzacademy.org/wp-content/uploads/2026/03/646061141_1547075097419128_8267437148098175531_n.jpg
END:VEVENT
BEGIN:VEVENT
DTSTART;TZID=Pacific/Honolulu:20260430T193000
DTEND;TZID=Pacific/Honolulu:20260430T203000
DTSTAMP:20260425T063821
CREATED:20250618T234437Z
LAST-MODIFIED:20250618T234437Z
UID:5641-1777577400-1777581000@www.jazzacademy.org
SUMMARY:🎷 JAC Vanguard Unit Rehearsals
DESCRIPTION:Thursdays | 7:30 PM – 8:15 PMNorth Chevy Chase Christian Church8814 Kensington Parkway\, Chevy Chase\, MD 20815 \nThe Vanguard Unit is JAM’s top-tier combo for advanced students preparing for collegiate jazz programs or professional music careers. Focused on musical discipline\, deep improvisation\, and complex arrangements\, this group challenges students to reach their highest artistic potential. \nRehearsal Dates:2025 – October 2\, 16\, 30 | November 13 | December 112026 – January 15\, 29 | February 12 | March 5\, 19 | April 16\, 30
URL:https://www.jazzacademy.org/event/%f0%9f%8e%b7-jac-vanguard-unit-rehearsals-11/
END:VEVENT
BEGIN:VEVENT
DTSTART;TZID=Pacific/Honolulu:20260430T190000
DTEND;TZID=Pacific/Honolulu:20260430T210000
DTSTAMP:20260425T063821
CREATED:20250618T231626Z
LAST-MODIFIED:20260225T180415Z
UID:5618-1777575600-1777582800@www.jazzacademy.org
SUMMARY:2026 Jazz Academy Orchestra Rehearsals
DESCRIPTION:🎼 Jazz Academy Orchestra Rehearsals\nIn-Person Rehearsals Thursday\, Bi-Weekly | 7:00 PM – 8:45 PM \nHarlow Hall\, North Chevy Chase Christian Church8814 Kensington Parkway\, Chevy Chase\, MD 20815 \nRehearsals for the Jazz Academy Orchestra will take place in person on the following dates: \nSeptember: 25October: 9\, 23November: 6\, 13\, 20December: 4\, 11January: 8\, 22February: 5March: 5\, 19\, 26April: 9\, 23\, 30 \nMay: 3 \nThese rehearsals provide a focused\, professional environment where students will work closely with instructors to prepare for upcoming performances. All sessions will be held in Harlow Hall at North Chevy Chase Christian Church\, offering a comfortable and acoustically supportive space for musical development.
URL:https://www.jazzacademy.org/event/2025-jazz-academy-orchestra-rehearsals-16/
END:VEVENT
BEGIN:VEVENT
DTSTART;TZID=Pacific/Honolulu:20260423T190000
DTEND;TZID=Pacific/Honolulu:20260423T210000
DTSTAMP:20260425T063821
CREATED:20250618T231548Z
LAST-MODIFIED:20260225T180508Z
UID:5616-1776970800-1776978000@www.jazzacademy.org
SUMMARY:2026 Jazz Academy Orchestra Rehearsals
DESCRIPTION:🎼 Jazz Academy Orchestra Rehearsals\nIn-Person Rehearsals Thursday\, Bi-Weekly | 7:00 PM – 8:45 PM \nHarlow Hall\, North Chevy Chase Christian Church8814 Kensington Parkway\, Chevy Chase\, MD 20815 \nRehearsals for the Jazz Academy Orchestra will take place in person on the following dates: \nSeptember: 25October: 9\, 23November: 6\, 13\, 20December: 4\, 11January: 8\, 22February: 5March: 5\, 19\, 26April: 9\, 23\, 30 \nMay: 3 \nThese rehearsals provide a focused\, professional environment where students will work closely with instructors to prepare for upcoming performances. All sessions will be held in Harlow Hall at North Chevy Chase Christian Church\, offering a comfortable and acoustically supportive space for musical development.
URL:https://www.jazzacademy.org/event/2025-jazz-academy-orchestra-rehearsals-15/
END:VEVENT
BEGIN:VEVENT
DTSTART;TZID=Pacific/Honolulu:20260416T193000
DTEND;TZID=Pacific/Honolulu:20260416T203000
DTSTAMP:20260425T063821
CREATED:20250618T234405Z
LAST-MODIFIED:20260409T154147Z
UID:5639-1776367800-1776371400@www.jazzacademy.org
SUMMARY:🎷 JAC Vanguard Rehearsal
DESCRIPTION:Thursdays | 7:30 PM – 8:15 PMNorth Chevy Chase Christian Church8814 Kensington Parkway\, Chevy Chase\, MD 20815 \nThe Vanguard Unit is JAM’s top-tier combo for advanced students preparing for collegiate jazz programs or professional music careers. Focused on musical discipline\, deep improvisation\, and complex arrangements\, this group challenges students to reach their highest artistic potential. \nRehearsal Dates:2025 – October 2\, 16\, 30 | November 13 | December 112026 – January 15\, 29 | February 12 | March 5\, 19 | April 16\, 30
URL:https://www.jazzacademy.org/event/%f0%9f%8e%b7-jac-vanguard-unit-rehearsals-10/
END:VEVENT
BEGIN:VEVENT
DTSTART;TZID=Pacific/Honolulu:20260409T190000
DTEND;TZID=Pacific/Honolulu:20260409T210000
DTSTAMP:20260425T063821
CREATED:20250618T231514Z
LAST-MODIFIED:20260225T180540Z
UID:5614-1775761200-1775768400@www.jazzacademy.org
SUMMARY:2026 Jazz Academy Orchestra Rehearsals
DESCRIPTION:🎼 Jazz Academy Orchestra Rehearsals\nIn-Person Rehearsals Thursday\, Bi-Weekly | 7:00 PM – 8:45 PM \nHarlow Hall\, North Chevy Chase Christian Church8814 Kensington Parkway\, Chevy Chase\, MD 20815 \nRehearsals for the Jazz Academy Orchestra will take place in person on the following dates: \nSeptember: 25October: 9\, 23November: 6\, 13\, 20December: 4\, 11January: 8\, 22February: 5March: 5\, 19\, 26April: 9\, 23\, 30 \nMay: 3 \nThese rehearsals provide a focused\, professional environment where students will work closely with instructors to prepare for upcoming performances. All sessions will be held in Harlow Hall at North Chevy Chase Christian Church\, offering a comfortable and acoustically supportive space for musical development.
URL:https://www.jazzacademy.org/event/2025-jazz-academy-orchestra-rehearsals-14/
END:VEVENT
BEGIN:VEVENT
DTSTART;TZID=Pacific/Honolulu:20260326T190000
DTEND;TZID=Pacific/Honolulu:20260326T210000
DTSTAMP:20260425T063821
CREATED:20250618T231443Z
LAST-MODIFIED:20260225T180609Z
UID:5612-1774551600-1774558800@www.jazzacademy.org
SUMMARY:2026 Jazz Academy Orchestra Rehearsals
DESCRIPTION:🎼 Jazz Academy Orchestra Rehearsals\nIn-Person Rehearsals Thursday\, Bi-Weekly | 7:00 PM – 8:45 PM \nHarlow Hall\, North Chevy Chase Christian Church8814 Kensington Parkway\, Chevy Chase\, MD 20815 \nRehearsals for the Jazz Academy Orchestra will take place in person on the following dates: \nSeptember: 25October: 9\, 23November: 6\, 13\, 20December: 4\, 11January: 8\, 22February: 5March: 5\, 19\, 26April: 9\, 23\, 30 \nMay: 3 \nThese rehearsals provide a focused\, professional environment where students will work closely with instructors to prepare for upcoming performances. All sessions will be held in Harlow Hall at North Chevy Chase Christian Church\, offering a comfortable and acoustically supportive space for musical development.
URL:https://www.jazzacademy.org/event/2025-jazz-academy-orchestra-rehearsals-13/
END:VEVENT
BEGIN:VEVENT
DTSTART;TZID=Pacific/Honolulu:20260319T193000
DTEND;TZID=Pacific/Honolulu:20260319T203000
DTSTAMP:20260425T063821
CREATED:20250618T234332Z
LAST-MODIFIED:20250618T234332Z
UID:5637-1773948600-1773952200@www.jazzacademy.org
SUMMARY:🎷 JAC Vanguard Unit Rehearsals
DESCRIPTION:Thursdays | 7:30 PM – 8:15 PMNorth Chevy Chase Christian Church8814 Kensington Parkway\, Chevy Chase\, MD 20815 \nThe Vanguard Unit is JAM’s top-tier combo for advanced students preparing for collegiate jazz programs or professional music careers. Focused on musical discipline\, deep improvisation\, and complex arrangements\, this group challenges students to reach their highest artistic potential. \nRehearsal Dates:2025 – October 2\, 16\, 30 | November 13 | December 112026 – January 15\, 29 | February 12 | March 5\, 19 | April 16\, 30
URL:https://www.jazzacademy.org/event/%f0%9f%8e%b7-jac-vanguard-unit-rehearsals-9/
END:VEVENT
BEGIN:VEVENT
DTSTART;TZID=Pacific/Honolulu:20260319T190000
DTEND;TZID=Pacific/Honolulu:20260319T210000
DTSTAMP:20260425T063821
CREATED:20251204T173629Z
LAST-MODIFIED:20251204T213442Z
UID:6178-1773946800-1773954000@www.jazzacademy.org
SUMMARY:2026 JAM Rehearsal
DESCRIPTION:
URL:https://www.jazzacademy.org/event/jam-rehearsal-8/
END:VEVENT
BEGIN:VEVENT
DTSTART;TZID=Pacific/Honolulu:20260319T190000
DTEND;TZID=Pacific/Honolulu:20260319T210000
DTSTAMP:20260425T063821
CREATED:20250618T231403Z
LAST-MODIFIED:20260225T180154Z
UID:5610-1773946800-1773954000@www.jazzacademy.org
SUMMARY:2026 Jazz Academy Orchestra Rehearsals
DESCRIPTION:🎼 Jazz Academy Orchestra Rehearsals\nIn-Person Rehearsals Thursday\, Bi-Weekly | 7:00 PM – 8:45 PM \nHarlow Hall\, North Chevy Chase Christian Church8814 Kensington Parkway\, Chevy Chase\, MD 20815 \nRehearsals for the Jazz Academy Orchestra will take place in person on the following dates: \nSeptember: 25October: 9\, 23November: 6\, 13\, 20December: 4\, 11January: 8\, 22February: 5March: 5\, 19\, 26April: 9\, 23\, 30 \nMay: 3 \nThese rehearsals provide a focused\, professional environment where students will work closely with instructors to prepare for upcoming performances. All sessions will be held in Harlow Hall at North Chevy Chase Christian Church\, offering a comfortable and acoustically supportive space for musical development.
URL:https://www.jazzacademy.org/event/2025-jazz-academy-orchestra-rehearsals-12/
END:VEVENT
BEGIN:VEVENT
DTSTART;TZID=Pacific/Honolulu:20260305T193000
DTEND;TZID=Pacific/Honolulu:20260305T203000
DTSTAMP:20260425T063821
CREATED:20250618T234254Z
LAST-MODIFIED:20250618T234254Z
UID:5635-1772739000-1772742600@www.jazzacademy.org
SUMMARY:🎷 JAC Vanguard Unit Rehearsals
DESCRIPTION:Thursdays | 7:30 PM – 8:15 PMNorth Chevy Chase Christian Church8814 Kensington Parkway\, Chevy Chase\, MD 20815 \nThe Vanguard Unit is JAM’s top-tier combo for advanced students preparing for collegiate jazz programs or professional music careers. Focused on musical discipline\, deep improvisation\, and complex arrangements\, this group challenges students to reach their highest artistic potential. \nRehearsal Dates:2025 – October 2\, 16\, 30 | November 13 | December 112026 – January 15\, 29 | February 12 | March 5\, 19 | April 16\, 30
URL:https://www.jazzacademy.org/event/%f0%9f%8e%b7-jac-vanguard-unit-rehearsals-8/
END:VEVENT
BEGIN:VEVENT
DTSTART;TZID=Pacific/Honolulu:20260305T190000
DTEND;TZID=Pacific/Honolulu:20260305T210000
DTSTAMP:20260425T063821
CREATED:20260225T180328Z
LAST-MODIFIED:20260225T180328Z
UID:6302-1772737200-1772744400@www.jazzacademy.org
SUMMARY:2026 Jazz Academy Orchestra Rehearsals
DESCRIPTION:🎼 Jazz Academy Orchestra Rehearsals\nIn-Person Rehearsals Thursday\, Bi-Weekly | 7:00 PM – 8:45 PM \nHarlow Hall\, North Chevy Chase Christian Church8814 Kensington Parkway\, Chevy Chase\, MD 20815 \nRehearsals for the Jazz Academy Orchestra will take place in person on the following dates: \nSeptember: 25October: 9\, 23November: 6\, 13\, 20December: 4\, 11January: 8\, 22February: 5March: 5\, 19\, 26April: 9\, 23\, 30 \nMay: 3 \nThese rehearsals provide a focused\, professional environment where students will work closely with instructors to prepare for upcoming performances. All sessions will be held in Harlow Hall at North Chevy Chase Christian Church\, offering a comfortable and acoustically supportive space for musical development.
URL:https://www.jazzacademy.org/event/2026-jazz-academy-orchestra-rehearsals-2/
END:VEVENT
BEGIN:VEVENT
DTSTART;TZID=Pacific/Honolulu:20260305T190000
DTEND;TZID=Pacific/Honolulu:20260305T210000
DTSTAMP:20260425T063821
CREATED:20251204T173607Z
LAST-MODIFIED:20251204T213534Z
UID:6176-1772737200-1772744400@www.jazzacademy.org
SUMMARY:2026 JAM Rehearsal
DESCRIPTION:
URL:https://www.jazzacademy.org/event/jam-rehearsal-7/
END:VEVENT
BEGIN:VEVENT
DTSTART;TZID=Pacific/Honolulu:20260212T193000
DTEND;TZID=Pacific/Honolulu:20260212T203000
DTSTAMP:20260425T063821
CREATED:20250618T234219Z
LAST-MODIFIED:20250618T234219Z
UID:5633-1770924600-1770928200@www.jazzacademy.org
SUMMARY:🎷 JAC Vanguard Unit Rehearsals
DESCRIPTION:Thursdays | 7:30 PM – 8:15 PMNorth Chevy Chase Christian Church8814 Kensington Parkway\, Chevy Chase\, MD 20815 \nThe Vanguard Unit is JAM’s top-tier combo for advanced students preparing for collegiate jazz programs or professional music careers. Focused on musical discipline\, deep improvisation\, and complex arrangements\, this group challenges students to reach their highest artistic potential. \nRehearsal Dates:2025 – October 2\, 16\, 30 | November 13 | December 112026 – January 15\, 29 | February 12 | March 5\, 19 | April 16\, 30
URL:https://www.jazzacademy.org/event/%f0%9f%8e%b7-jac-vanguard-unit-rehearsals-7/
END:VEVENT
BEGIN:VEVENT
DTSTART;TZID=Pacific/Honolulu:20260212T190000
DTEND;TZID=Pacific/Honolulu:20260212T210000
DTSTAMP:20260425T063821
CREATED:20251204T173525Z
LAST-MODIFIED:20251204T213752Z
UID:6172-1770922800-1770930000@www.jazzacademy.org
SUMMARY:2026 JAM Rehearsal
DESCRIPTION:
URL:https://www.jazzacademy.org/event/jam-rehearsal-5/
END:VEVENT
BEGIN:VEVENT
DTSTART;TZID=Pacific/Honolulu:20260205T190000
DTEND;TZID=Pacific/Honolulu:20260205T210000
DTSTAMP:20260425T063821
CREATED:20251204T173500Z
LAST-MODIFIED:20251204T213827Z
UID:6170-1770318000-1770325200@www.jazzacademy.org
SUMMARY:2026 JAM Rehearsal
DESCRIPTION:
URL:https://www.jazzacademy.org/event/jam-rehearsal-4/
END:VEVENT
BEGIN:VEVENT
DTSTART;TZID=Pacific/Honolulu:20260205T190000
DTEND;TZID=Pacific/Honolulu:20260205T210000
DTSTAMP:20260425T063821
CREATED:20250618T231253Z
LAST-MODIFIED:20251204T201013Z
UID:5606-1770318000-1770325200@www.jazzacademy.org
SUMMARY:2026 Jazz Academy Orchestra Rehearsals
DESCRIPTION:🎼 Jazz Academy Orchestra Rehearsals\nIn-Person Rehearsals Thursday\, Bi-Weekly | 7:00 PM – 8:45 PM \nHarlow Hall\, North Chevy Chase Christian Church8814 Kensington Parkway\, Chevy Chase\, MD 20815 \nRehearsals for the Jazz Academy Orchestra will take place in person on the following dates: \nSeptember: 25October: 9\, 23November: 6\, 13\, 20December: 4\, 11January: 8\, 22February: 5\, 26March: 12\, 26April: 9\, 23\, 30 \nThese rehearsals provide a focused\, professional environment where students will work closely with instructors to prepare for upcoming performances. All sessions will be held in Harlow Hall at North Chevy Chase Christian Church\, offering a comfortable and acoustically supportive space for musical development.
URL:https://www.jazzacademy.org/event/2025-jazz-academy-orchestra-rehearsals-10/
END:VEVENT
BEGIN:VEVENT
DTSTART;TZID=Pacific/Honolulu:20260129T193000
DTEND;TZID=Pacific/Honolulu:20260129T203000
DTSTAMP:20260425T063821
CREATED:20250618T234146Z
LAST-MODIFIED:20250618T234146Z
UID:5631-1769715000-1769718600@www.jazzacademy.org
SUMMARY:🎷 JAC Vanguard Unit Rehearsals
DESCRIPTION:Thursdays | 7:30 PM – 8:15 PMNorth Chevy Chase Christian Church8814 Kensington Parkway\, Chevy Chase\, MD 20815 \nThe Vanguard Unit is JAM’s top-tier combo for advanced students preparing for collegiate jazz programs or professional music careers. Focused on musical discipline\, deep improvisation\, and complex arrangements\, this group challenges students to reach their highest artistic potential. \nRehearsal Dates:2025 – October 2\, 16\, 30 | November 13 | December 112026 – January 15\, 29 | February 12 | March 5\, 19 | April 16\, 30
URL:https://www.jazzacademy.org/event/%f0%9f%8e%b7-jac-vanguard-unit-rehearsals-6/
END:VEVENT
BEGIN:VEVENT
DTSTART;TZID=Pacific/Honolulu:20260129T190000
DTEND;TZID=Pacific/Honolulu:20260129T210000
DTSTAMP:20260425T063821
CREATED:20251204T173439Z
LAST-MODIFIED:20251204T213857Z
UID:6168-1769713200-1769720400@www.jazzacademy.org
SUMMARY:2026 JAM Rehearsal
DESCRIPTION:
URL:https://www.jazzacademy.org/event/jam-rehearsal-3/
END:VEVENT
BEGIN:VEVENT
DTSTART;TZID=Pacific/Honolulu:20260122T190000
DTEND;TZID=Pacific/Honolulu:20260122T210000
DTSTAMP:20260425T063821
CREATED:20251204T173417Z
LAST-MODIFIED:20251204T213951Z
UID:6166-1769108400-1769115600@www.jazzacademy.org
SUMMARY:2026 JAM Rehearsal
DESCRIPTION:
URL:https://www.jazzacademy.org/event/jam-rehearsal-2/
END:VEVENT
BEGIN:VEVENT
DTSTART;TZID=Pacific/Honolulu:20260122T190000
DTEND;TZID=Pacific/Honolulu:20260122T210000
DTSTAMP:20260425T063821
CREATED:20250618T231215Z
LAST-MODIFIED:20251204T200239Z
UID:5604-1769108400-1769115600@www.jazzacademy.org
SUMMARY:2026 Jazz Academy Orchestra Rehearsals
DESCRIPTION:🎼 Jazz Academy Orchestra Rehearsals\nIn-Person Rehearsals Thursday\, Bi-Weekly | 7:00 PM – 8:45 PM \nHarlow Hall\, North Chevy Chase Christian Church8814 Kensington Parkway\, Chevy Chase\, MD 20815 \nRehearsals for the Jazz Academy Orchestra will take place in person on the following dates: \nSeptember: 25October: 9\, 23November: 6\, 13\, 20December: 4\, 11January: 8\, 22February: 5\, 26March: 12\, 26April: 9\, 23\, 30 \nThese rehearsals provide a focused\, professional environment where students will work closely with instructors to prepare for upcoming performances. All sessions will be held in Harlow Hall at North Chevy Chase Christian Church\, offering a comfortable and acoustically supportive space for musical development.
URL:https://www.jazzacademy.org/event/2025-jazz-academy-orchestra-rehearsals-9/
END:VEVENT
BEGIN:VEVENT
DTSTART;TZID=Pacific/Honolulu:20260115T193000
DTEND;TZID=Pacific/Honolulu:20260115T203000
DTSTAMP:20260425T063821
CREATED:20250618T234118Z
LAST-MODIFIED:20250618T234118Z
UID:5629-1768505400-1768509000@www.jazzacademy.org
SUMMARY:🎷 JAC Vanguard Unit Rehearsals
DESCRIPTION:Thursdays | 7:30 PM – 8:15 PMNorth Chevy Chase Christian Church8814 Kensington Parkway\, Chevy Chase\, MD 20815 \nThe Vanguard Unit is JAM’s top-tier combo for advanced students preparing for collegiate jazz programs or professional music careers. Focused on musical discipline\, deep improvisation\, and complex arrangements\, this group challenges students to reach their highest artistic potential. \nRehearsal Dates:2025 – October 2\, 16\, 30 | November 13 | December 112026 – January 15\, 29 | February 12 | March 5\, 19 | April 16\, 30
URL:https://www.jazzacademy.org/event/%f0%9f%8e%b7-jac-vanguard-unit-rehearsals-5/
END:VEVENT
BEGIN:VEVENT
DTSTART;TZID=Pacific/Honolulu:20260115T190000
DTEND;TZID=Pacific/Honolulu:20260115T210000
DTSTAMP:20260425T063821
CREATED:20251204T173349Z
LAST-MODIFIED:20251204T213345Z
UID:6164-1768503600-1768510800@www.jazzacademy.org
SUMMARY:2026 JAM Rehearsal
DESCRIPTION:
URL:https://www.jazzacademy.org/event/jam-rehearsal/
END:VEVENT
BEGIN:VEVENT
DTSTART;TZID=Pacific/Honolulu:20251207T170000
DTEND;TZID=Pacific/Honolulu:20251207T190000
DTSTAMP:20260425T063821
CREATED:20250618T231050Z
LAST-MODIFIED:20251020T181013Z
UID:5600-1765126800-1765134000@www.jazzacademy.org
SUMMARY:2025 Jazz Academy Orchestra Winter Concert
DESCRIPTION:🎼 Jazz Academy Orchestra Winter Concert\nLeisure World Clubhouse II \n33oo North Leisure World Blvd. \nSilver Spring\, MD  20906 \nCall time 4:15  Start time: 5pm.
URL:https://www.jazzacademy.org/event/2025-jazz-academy-orchestra-rehearsals-7/
LOCATION:Leisure World Clubhouse II\, 3300 N. Leisure World Blvd\, Silver Spring\,\, MD\, 20906\, United States
END:VEVENT
BEGIN:VEVENT
DTSTART;TZID=Pacific/Honolulu:20251204T190000
DTEND;TZID=Pacific/Honolulu:20251204T210000
DTSTAMP:20260425T063821
CREATED:20250618T231016Z
LAST-MODIFIED:20250618T231016Z
UID:5598-1764874800-1764882000@www.jazzacademy.org
SUMMARY:2025 Jazz Academy Orchestra Rehearsals
DESCRIPTION:🎼 Jazz Academy Orchestra Rehearsals\nIn-Person Rehearsals Thursday\, Bi-Weekly | 7:00 PM – 8:45 PM \nHarlow Hall\, North Chevy Chase Christian Church8814 Kensington Parkway\, Chevy Chase\, MD 20815 \nRehearsals for the Jazz Academy Orchestra will take place in person on the following dates: \nSeptember: 25October: 9\, 23November: 6\, 13\, 20December: 4\, 11January: 8\, 22February: 5\, 26March: 12\, 26April: 9\, 23\, 30 \nThese rehearsals provide a focused\, professional environment where students will work closely with instructors to prepare for upcoming performances. All sessions will be held in Harlow Hall at North Chevy Chase Christian Church\, offering a comfortable and acoustically supportive space for musical development.
URL:https://www.jazzacademy.org/event/2025-jazz-academy-orchestra-rehearsals-6/
END:VEVENT
BEGIN:VEVENT
DTSTART;TZID=Pacific/Honolulu:20251120T190000
DTEND;TZID=Pacific/Honolulu:20251120T210000
DTSTAMP:20260425T063821
CREATED:20250618T230937Z
LAST-MODIFIED:20250618T230937Z
UID:5596-1763665200-1763672400@www.jazzacademy.org
SUMMARY:2025 Jazz Academy Orchestra Rehearsals
DESCRIPTION:🎼 Jazz Academy Orchestra Rehearsals\nIn-Person Rehearsals Thursday\, Bi-Weekly | 7:00 PM – 8:45 PM \nHarlow Hall\, North Chevy Chase Christian Church8814 Kensington Parkway\, Chevy Chase\, MD 20815 \nRehearsals for the Jazz Academy Orchestra will take place in person on the following dates: \nSeptember: 25October: 9\, 23November: 6\, 13\, 20December: 4\, 11January: 8\, 22February: 5\, 26March: 12\, 26April: 9\, 23\, 30 \nThese rehearsals provide a focused\, professional environment where students will work closely with instructors to prepare for upcoming performances. All sessions will be held in Harlow Hall at North Chevy Chase Christian Church\, offering a comfortable and acoustically supportive space for musical development.
URL:https://www.jazzacademy.org/event/2025-jazz-academy-orchestra-rehearsals-5/
END:VEVENT
BEGIN:VEVENT
DTSTART;TZID=Pacific/Honolulu:20251113T193000
DTEND;TZID=Pacific/Honolulu:20251113T203000
DTSTAMP:20260425T063821
CREATED:20250618T233919Z
LAST-MODIFIED:20250618T233919Z
UID:5625-1763062200-1763065800@www.jazzacademy.org
SUMMARY:🎷 JAC Vanguard Unit Rehearsals
DESCRIPTION:Thursdays | 7:30 PM – 8:15 PMNorth Chevy Chase Christian Church8814 Kensington Parkway\, Chevy Chase\, MD 20815 \nThe Vanguard Unit is JAM’s top-tier combo for advanced students preparing for collegiate jazz programs or professional music careers. Focused on musical discipline\, deep improvisation\, and complex arrangements\, this group challenges students to reach their highest artistic potential. \nRehearsal Dates:2025 – October 2\, 16\, 30 | November 13 | December 112026 – January 15\, 29 | February 12 | March 5\, 19 | April 16\, 30
URL:https://www.jazzacademy.org/event/%f0%9f%8e%b7-jac-vanguard-unit-rehearsals-3/
END:VEVENT
BEGIN:VEVENT
DTSTART;TZID=Pacific/Honolulu:20251113T190000
DTEND;TZID=Pacific/Honolulu:20251113T210000
DTSTAMP:20260425T063821
CREATED:20250618T230856Z
LAST-MODIFIED:20250618T230856Z
UID:5594-1763060400-1763067600@www.jazzacademy.org
SUMMARY:2025 Jazz Academy Orchestra Rehearsals
DESCRIPTION:🎼 Jazz Academy Orchestra Rehearsals\nIn-Person Rehearsals Thursday\, Bi-Weekly | 7:00 PM – 8:45 PM \nHarlow Hall\, North Chevy Chase Christian Church8814 Kensington Parkway\, Chevy Chase\, MD 20815 \nRehearsals for the Jazz Academy Orchestra will take place in person on the following dates: \nSeptember: 25October: 9\, 23November: 6\, 13\, 20December: 4\, 11January: 8\, 22February: 5\, 26March: 12\, 26April: 9\, 23\, 30 \nThese rehearsals provide a focused\, professional environment where students will work closely with instructors to prepare for upcoming performances. All sessions will be held in Harlow Hall at North Chevy Chase Christian Church\, offering a comfortable and acoustically supportive space for musical development.
URL:https://www.jazzacademy.org/event/2025-jazz-academy-orchestra-rehearsals-4/
END:VEVENT
BEGIN:VEVENT
DTSTART;TZID=Pacific/Honolulu:20251030T193000
DTEND;TZID=Pacific/Honolulu:20251030T203000
DTSTAMP:20260425T063821
CREATED:20250618T233434Z
LAST-MODIFIED:20250618T233434Z
UID:5623-1761852600-1761856200@www.jazzacademy.org
SUMMARY:🎷 JAC Vanguard Unit Rehearsals
DESCRIPTION:Thursdays | 7:30 PM – 8:15 PMNorth Chevy Chase Christian Church8814 Kensington Parkway\, Chevy Chase\, MD 20815 \nThe Vanguard Unit is JAM’s top-tier combo for advanced students preparing for collegiate jazz programs or professional music careers. Focused on musical discipline\, deep improvisation\, and complex arrangements\, this group challenges students to reach their highest artistic potential. \nRehearsal Dates:2025 – October 2\, 16\, 30 | November 13 | December 112026 – January 15\, 29 | February 12 | March 5\, 19 | April 16\, 30
URL:https://www.jazzacademy.org/event/%f0%9f%8e%b7-jac-vanguard-unit-rehearsals-2/
END:VEVENT
END:VCALENDAR