BEGIN:VCALENDAR
VERSION:2.0
PRODID:-//Jazz Academy - ECPv6.15.18//NONSGML v1.0//EN
CALSCALE:GREGORIAN
METHOD:PUBLISH
X-ORIGINAL-URL:https://www.jazzacademy.org
X-WR-CALDESC:Events for Jazz Academy
REFRESH-INTERVAL;VALUE=DURATION:PT1H
X-Robots-Tag:noindex
X-PUBLISHED-TTL:PT1H
BEGIN:VTIMEZONE
TZID:Pacific/Honolulu
BEGIN:STANDARD
TZOFFSETFROM:-1000
TZOFFSETTO:-1000
TZNAME:HST
DTSTART:20250101T000000
END:STANDARD
END:VTIMEZONE
BEGIN:VEVENT
DTSTART;TZID=Pacific/Honolulu:20260503T150000
DTEND;TZID=Pacific/Honolulu:20260503T170000
DTSTAMP:20260425T015412
CREATED:20260331T232535Z
LAST-MODIFIED:20260414T220721Z
UID:6445-1777820400-1777827600@www.jazzacademy.org
SUMMARY:JAO Spring Concert
DESCRIPTION:The Spring Concert will be held at Westminster Church in Washington\, DC on May 3\, 2026. \nCall time is 2:15pm and Performance time is 3:00pm
URL:https://www.jazzacademy.org/event/spring-concert/
LOCATION:Westminster Church\, United States
ATTACH;FMTTYPE=image/jpeg:https://www.jazzacademy.org/wp-content/uploads/2026/03/646061141_1547075097419128_8267437148098175531_n.jpg
END:VEVENT
BEGIN:VEVENT
DTSTART;TZID=Pacific/Honolulu:20260503T190000
DTEND;TZID=Pacific/Honolulu:20260503T210000
DTSTAMP:20260425T015413
CREATED:20260225T171930Z
LAST-MODIFIED:20260225T175726Z
UID:6296-1777834800-1777842000@www.jazzacademy.org
SUMMARY:2026 Jazz Academy Orchestra Rehearsals
DESCRIPTION:🎼 Jazz Academy Orchestra Rehearsals\nIn-Person Rehearsals Thursday\, Bi-Weekly | 7:00 PM – 8:45 PM \nHarlow Hall\, North Chevy Chase Christian Church8814 Kensington Parkway\, Chevy Chase\, MD 20815 \nRehearsals for the Jazz Academy Orchestra will take place in person on the following dates: \nSeptember: 25October: 9\, 23November: 6\, 13\, 20December: 4\, 11January: 8\, 22February: 5March: 19\, 26April: 9\, 23\, 30 \nMay: 3 \nThese rehearsals provide a focused\, professional environment where students will work closely with instructors to prepare for upcoming performances. All sessions will be held in Harlow Hall at North Chevy Chase Christian Church\, offering a comfortable and acoustically supportive space for musical development.
URL:https://www.jazzacademy.org/event/2026-jazz-academy-orchestra-rehearsals/
END:VEVENT
BEGIN:VEVENT
DTSTART;TZID=Pacific/Honolulu:20260629T080000
DTEND;TZID=Pacific/Honolulu:20260710T170000
DTSTAMP:20260425T015413
CREATED:20251127T194638Z
LAST-MODIFIED:20251205T183639Z
UID:6105-1782720000-1783702800@www.jazzacademy.org
SUMMARY:2026 JAM Camp
DESCRIPTION:
URL:https://www.jazzacademy.org/event/2026-jam-camp/
ATTACH;FMTTYPE=image/jpeg:https://www.jazzacademy.org/wp-content/uploads/2025/06/66397362_2406231986104624_3599551067882258432_n.jpg
END:VEVENT
END:VCALENDAR