BEGIN:VCALENDAR
VERSION:2.0
PRODID:-//Jazz Academy - ECPv6.15.18//NONSGML v1.0//EN
CALSCALE:GREGORIAN
METHOD:PUBLISH
X-WR-CALNAME:Jazz Academy
X-ORIGINAL-URL:https://www.jazzacademy.org
X-WR-CALDESC:Events for Jazz Academy
REFRESH-INTERVAL;VALUE=DURATION:PT1H
X-Robots-Tag:noindex
X-PUBLISHED-TTL:PT1H
BEGIN:VTIMEZONE
TZID:Pacific/Honolulu
BEGIN:STANDARD
TZOFFSETFROM:-1000
TZOFFSETTO:-1000
TZNAME:HST
DTSTART:20240101T000000
END:STANDARD
END:VTIMEZONE
BEGIN:VEVENT
DTSTART;TZID=Pacific/Honolulu:20250925T190000
DTEND;TZID=Pacific/Honolulu:20250925T210000
DTSTAMP:20260425T150430
CREATED:20250609T180427Z
LAST-MODIFIED:20250827T151020Z
UID:5104-1758826800-1758834000@www.jazzacademy.org
SUMMARY:2025 Jazz Academy Orchestra Rehearsal
DESCRIPTION:
URL:https://www.jazzacademy.org/event/2025-jazz-academy-orchestra-rehearsals/
END:VEVENT
BEGIN:VEVENT
DTSTART;VALUE=DATE:20250913
DTEND;VALUE=DATE:20250919
DTSTAMP:20260425T150430
CREATED:20250609T180318Z
LAST-MODIFIED:20250609T180318Z
UID:5102-1757721600-1758239999@www.jazzacademy.org
SUMMARY:2025 Jazz Academy Orchestra Auditions
DESCRIPTION:
URL:https://www.jazzacademy.org/event/2025-jazz-academy-orchestra-auditions/
END:VEVENT
BEGIN:VEVENT
DTSTART;TZID=Pacific/Honolulu:20250627T190000
DTEND;TZID=Pacific/Honolulu:20250627T210000
DTSTAMP:20260425T150430
CREATED:20250609T175618Z
LAST-MODIFIED:20250609T175618Z
UID:5100-1751050800-1751058000@www.jazzacademy.org
SUMMARY:JAM Camp Concert
DESCRIPTION:🎶 2025 JAM Camp Concert\nJune 27\, 2025 | 7:00 PM – 9:00 PM \nRobert E. Parilla Performing Arts CenterMontgomery College51 Mannakee Street\, Rockville\, MD 20850 \nCome celebrate the culmination of two incredible weeks of music-making at our JAM Camp Concert\, showcasing the talent\, progress\, and passion of our student ensembles. Family\, friends\, and jazz lovers are welcome!
URL:https://www.jazzacademy.org/event/jam-camp-concert/
END:VEVENT
BEGIN:VEVENT
DTSTART;TZID=Pacific/Honolulu:20250618T180000
DTEND;TZID=Pacific/Honolulu:20250618T210000
DTSTAMP:20260425T150430
CREATED:20250609T175501Z
LAST-MODIFIED:20250617T230408Z
UID:5098-1750269600-1750280400@www.jazzacademy.org
SUMMARY:Paul Carr Quartet with Special Guest Tim Warfield
DESCRIPTION:🎷 Join the dynamic Paul Carr Quartet with special guest Tim Warfield for an unforgettable evening of high-octane swing\, soulful improvisation\, and world-class musicianship! \n📅 Wednesday\, June 18\, 2025 • 6 PM–9 PM📍 Takoma Station Tavern\, 6914 4th St NW\, Washington\, DC🎟️ Tickets $20 (+$2 fee) or $25 at the door
URL:https://www.jazzacademy.org/event/paul-carr-quartet-with-special-guest-tim-warfield/
END:VEVENT
BEGIN:VEVENT
DTSTART;VALUE=DATE:20250616
DTEND;VALUE=DATE:20250617
DTSTAMP:20260425T150430
CREATED:20250609T174049Z
LAST-MODIFIED:20250617T225726Z
UID:5092-1750032000-1750118399@www.jazzacademy.org
SUMMARY:2025 JAM Camp
DESCRIPTION:🎷 2025 JAM Camp\nJune 16–27\, 2025 | 1:00 PM – 5:00 PMExtended Day Option: 9:00 AM – 5:00 PM \nLocation: North Chevy Chase Christian Church \n \nJoin us for the 2025 Jazz Academy of Music (JAM) Camp\, a dynamic two-week summer program where students ages 6–18 immerse themselves in the world of jazz under the guidance of top-tier faculty and professional jazz musicians. Whether your child is picking up an instrument for the first time or preparing for conservatory auditions\, JAM Camp offers the tools\, mentorship\, and community to help them grow. \nParticipants will build their skills through improvisation workshops\, theory classes\, ear training\, and interactive masterclasses. Eligible students will also have the opportunity to join a jazz combo or orchestra\, deepening their musical experience in a fun\, supportive\, and creativity-driven environment. \nExtended Day Camp (9:00 AM – 5:00 PM) is also available for students seeking a full-day experience\, including additional practice time\, electives\, and supervised activities.
URL:https://www.jazzacademy.org/event/2025-jam-camp/
END:VEVENT
END:VCALENDAR